BEGIN:VCALENDAR
VERSION:2.0
PRODID:-//Epitype GmbH - ECPv6.15.20//NONSGML v1.0//EN
CALSCALE:GREGORIAN
METHOD:PUBLISH
X-ORIGINAL-URL:https://www.epitype.de
X-WR-CALDESC:Veranstaltungen für Epitype GmbH
REFRESH-INTERVAL;VALUE=DURATION:PT1H
X-Robots-Tag:noindex
X-PUBLISHED-TTL:PT1H
BEGIN:VTIMEZONE
TZID:Europe/Berlin
BEGIN:DAYLIGHT
TZOFFSETFROM:+0100
TZOFFSETTO:+0200
TZNAME:CEST
DTSTART:20160327T010000
END:DAYLIGHT
BEGIN:STANDARD
TZOFFSETFROM:+0200
TZOFFSETTO:+0100
TZNAME:CET
DTSTART:20161030T010000
END:STANDARD
BEGIN:DAYLIGHT
TZOFFSETFROM:+0100
TZOFFSETTO:+0200
TZNAME:CEST
DTSTART:20170326T010000
END:DAYLIGHT
BEGIN:STANDARD
TZOFFSETFROM:+0200
TZOFFSETTO:+0100
TZNAME:CET
DTSTART:20171029T010000
END:STANDARD
BEGIN:DAYLIGHT
TZOFFSETFROM:+0100
TZOFFSETTO:+0200
TZNAME:CEST
DTSTART:20180325T010000
END:DAYLIGHT
BEGIN:STANDARD
TZOFFSETFROM:+0200
TZOFFSETTO:+0100
TZNAME:CET
DTSTART:20181028T010000
END:STANDARD
BEGIN:DAYLIGHT
TZOFFSETFROM:+0100
TZOFFSETTO:+0200
TZNAME:CEST
DTSTART:20190331T010000
END:DAYLIGHT
BEGIN:STANDARD
TZOFFSETFROM:+0200
TZOFFSETTO:+0100
TZNAME:CET
DTSTART:20191027T010000
END:STANDARD
BEGIN:DAYLIGHT
TZOFFSETFROM:+0100
TZOFFSETTO:+0200
TZNAME:CEST
DTSTART:20200329T010000
END:DAYLIGHT
BEGIN:STANDARD
TZOFFSETFROM:+0200
TZOFFSETTO:+0100
TZNAME:CET
DTSTART:20201025T010000
END:STANDARD
BEGIN:DAYLIGHT
TZOFFSETFROM:+0100
TZOFFSETTO:+0200
TZNAME:CEST
DTSTART:20210328T010000
END:DAYLIGHT
BEGIN:STANDARD
TZOFFSETFROM:+0200
TZOFFSETTO:+0100
TZNAME:CET
DTSTART:20211031T010000
END:STANDARD
BEGIN:DAYLIGHT
TZOFFSETFROM:+0100
TZOFFSETTO:+0200
TZNAME:CEST
DTSTART:20220327T010000
END:DAYLIGHT
BEGIN:STANDARD
TZOFFSETFROM:+0200
TZOFFSETTO:+0100
TZNAME:CET
DTSTART:20221030T010000
END:STANDARD
BEGIN:DAYLIGHT
TZOFFSETFROM:+0100
TZOFFSETTO:+0200
TZNAME:CEST
DTSTART:20230326T010000
END:DAYLIGHT
BEGIN:STANDARD
TZOFFSETFROM:+0200
TZOFFSETTO:+0100
TZNAME:CET
DTSTART:20231029T010000
END:STANDARD
BEGIN:DAYLIGHT
TZOFFSETFROM:+0100
TZOFFSETTO:+0200
TZNAME:CEST
DTSTART:20240331T010000
END:DAYLIGHT
BEGIN:STANDARD
TZOFFSETFROM:+0200
TZOFFSETTO:+0100
TZNAME:CET
DTSTART:20241027T010000
END:STANDARD
BEGIN:DAYLIGHT
TZOFFSETFROM:+0100
TZOFFSETTO:+0200
TZNAME:CEST
DTSTART:20250330T010000
END:DAYLIGHT
BEGIN:STANDARD
TZOFFSETFROM:+0200
TZOFFSETTO:+0100
TZNAME:CET
DTSTART:20251026T010000
END:STANDARD
END:VTIMEZONE
BEGIN:VEVENT
DTSTART;VALUE=DATE:20241111
DTEND;VALUE=DATE:20241115
DTSTAMP:20260419T214933
CREATED:20240108T095536Z
LAST-MODIFIED:20240108T103556Z
UID:8533-1731283200-1731628799@www.epitype.de
SUMMARY:Medica 2024 in Düsseldorf
DESCRIPTION:Vom 11. bis 14. November findet in Düsseldorf wieder die Medica statt – eine der weltweit größten medizinischen B2B-Fachmessen weltweit. Auch wir werden wieder dort vertreten sein.
URL:https://www.epitype.de/event/medica-2024-in-duesseldorf/
LOCATION:CCD. Stadthalle Düsseldorf\, Rotterdamer Straße 141\, Düsseldorf\, 0474\, Deutschland
CATEGORIES:Messe
END:VEVENT
BEGIN:VEVENT
DTSTART;VALUE=DATE:20240906
DTEND;VALUE=DATE:20240908
DTSTAMP:20260419T214933
CREATED:20240716T083144Z
LAST-MODIFIED:20240716T083727Z
UID:8704-1725580800-1725753599@www.epitype.de
SUMMARY:MDHNO 2024
DESCRIPTION:Am 6. und 7. September nehmen wir an der 33. Jahrestagung der Vereinigung Mitteldeutscher Hals-Nasen-Ohrenärzte in Radebeul teil.\nOncgnostics Geschäftsführerin Dr. Martina Schmitz ist als Referentin eingeladen: \nMachbarkeitsstudie OncSaliva – Nicht-invasive Probenentnahme zum Nachweis von Kopf-Hals-Tumoren anhand epigenetischer Marker\n06.09.2024: 15:59\nProgramm
URL:https://www.epitype.de/event/mdhno-2024/
LOCATION:Tagungszentrum der sächsischen Wirtschaft\, Am Alten Güterboden 3\, Radebeul\, Sachsen\, 01445\, Deutschland
CATEGORIES:Kongresse
END:VEVENT
BEGIN:VEVENT
DTSTART;VALUE=DATE:20240313
DTEND;VALUE=DATE:20240317
DTSTAMP:20260419T214933
CREATED:20240108T094811Z
LAST-MODIFIED:20240108T105134Z
UID:8530-1710288000-1710633599@www.epitype.de
SUMMARY:EUROGIN in Stockholm
DESCRIPTION:EUROGIN – der weltweit führende Kongress über HPV Infektionen und damit verbundenen Krebserkrankungen findet in diesem Jahr in Stockholm statt. Wir freuen uns darauf\, Sie an unserem Stand zu begrüßen!
URL:https://www.epitype.de/event/eurogin-in-stockholm/
LOCATION:Waterfront Congress Centre\, Nils Ericsons Plan 4\, Stockholm\, 111 54
CATEGORIES:Conferences,Kongresse
END:VEVENT
BEGIN:VEVENT
DTSTART;VALUE=DATE:20240221
DTEND;VALUE=DATE:20240225
DTSTAMP:20260419T214933
CREATED:20240108T090929Z
LAST-MODIFIED:20240108T105148Z
UID:8515-1708473600-1708819199@www.epitype.de
SUMMARY:36. Deutscher Krebskongress
DESCRIPTION:Auf dem 36. Deutschen Krebskongress in Berlin stellen wir den aktuellen Stand der OncSaliva-Studie in einer Posterausstellung vorgestellt. Die Studie hat die Entwicklung epigenetischer Tumormarker zum Nachweis von Kopf-Hals-Tumoren in Speichelproben zur Anwendung als in-vitro-Diagnostikum zum Ziel. Wir freuen uns darauf\, Sie auf dem Deutschen Krebskongress zu sehen!
URL:https://www.epitype.de/event/36-deutscher-krebskonrgress/
LOCATION:City Cube Berlin\, Messedamm 26\, Berlin\, 14055\, Deutschland
CATEGORIES:Kongresse
END:VEVENT
BEGIN:VEVENT
DTSTART;VALUE=DATE:20231113
DTEND;VALUE=DATE:20231117
DTSTAMP:20260419T214933
CREATED:20230622T110857Z
LAST-MODIFIED:20240108T103621Z
UID:8265-1699833600-1700179199@www.epitype.de
SUMMARY:MEDICA 2023
DESCRIPTION:„MEDICA 2023 – hier trifft sich die ganze Welt der Medizin“\, lautet eine Eigenbeschreibung der Fachmesse\, die vom 13. bis 16. November in Düsseldorf stattfindet. Mit über 4.500 Ausstellern aus über 66 Ländern und 81.000 Besuchern gehört sie zu den größten Messen ihrer Art weltweit. Ach wir präsentieren uns am Gemeinschaftsstand von medways e.V. wieder vor Ort!
URL:https://www.epitype.de/event/medica-2023/
LOCATION:Sachsen
CATEGORIES:Messe
END:VEVENT
BEGIN:VEVENT
DTSTART;VALUE=DATE:20230901
DTEND;VALUE=DATE:20230903
DTSTAMP:20260419T214933
CREATED:20230622T112630Z
LAST-MODIFIED:20240108T103636Z
UID:8273-1693526400-1693699199@www.epitype.de
SUMMARY:MDHNO Jahres
DESCRIPTION:Wir nehmen an der 32. Jahrestagung der Vereinigung Mitteldeutscher HNO-Ärzte (MDHNO) in Quedlinburg teil.
URL:https://www.epitype.de/event/mdhno-jahres/
LOCATION:Palais Salfeldt\, Kornmarkt 6\, Quedlinburg\, 06484
CATEGORIES:Kongresse
END:VEVENT
BEGIN:VEVENT
DTSTART;VALUE=DATE:20230208
DTEND;VALUE=DATE:20230212
DTSTAMP:20260419T214933
CREATED:20230118T123546Z
LAST-MODIFIED:20230118T123546Z
UID:7915-1675814400-1676159999@www.epitype.de
SUMMARY:EUROGIN 2023
DESCRIPTION:Auf der EUROGIN 2023 (International Multidisciplinary HPV Congress) in Bilbao präsentieren wir uns mit einem eigenen Stand. Zudem werden wir mit eigenen Vorträgen am wissenschaftlichen Diskurs teilnehmen.
URL:https://www.epitype.de/event/eurogin-2023/
LOCATION:Palacio Euskalduna\, 4\, Abandoibarra Av.\, Bilbao\, 48011\, Spanien
CATEGORIES:Kongresse
END:VEVENT
BEGIN:VEVENT
DTSTART;VALUE=DATE:20221114
DTEND;VALUE=DATE:20221118
DTSTAMP:20260419T214933
CREATED:20220916T095158Z
LAST-MODIFIED:20220916T095338Z
UID:7763-1668384000-1668729599@www.epitype.de
SUMMARY:MEDICA 2022 in Düsseldorf
DESCRIPTION:Vom 14.-17. November 2022 findet die MEDICA\, die weltweit führende Medizinmesse\, wieder als Präsenzveranstaltung statt! Wir präsentieren uns vor Ort und freuen uns darauf\, Sie in Halle 15\, am Stand K10 zu begrüßen! \n 
URL:https://www.epitype.de/event/medica-2022-in-duesseldorf/
LOCATION:Messegelände Düsseldorf\, Am Staad\, Düsseldorf\, 40474
CATEGORIES:Messe
END:VEVENT
BEGIN:VEVENT
DTSTART;VALUE=DATE:20220718
DTEND;VALUE=DATE:20220721
DTSTAMP:20260419T214933
CREATED:20220221T123114Z
LAST-MODIFIED:20220221T125527Z
UID:7135-1658102400-1658361599@www.epitype.de
SUMMARY:XXVI Weltkongress der international Society for the Study of Vulvovaginal Disease (ISSVD)
DESCRIPTION:Der XXVI Weltkongress der international Society for the Study of Vulvovaginal Disease (ISSVD) findet vom 18.-20. Juli in Dublin statt. Die oncgnostics GmbH wird mit ihrem Stand vor Ort mit dabei sein. Wir informieren uns über die neusten Trends auf dem Gebiet der vulvovaginalen Erkrankungen und werden selbst unsere  Forschungsergebnisse vorstellen.
URL:https://www.epitype.de/event/xxvi-weltkongress-der-international-society-for-the-study-of-vulvovaginal-disease-issvd/
LOCATION:Trinity Business School Trinity College\, Trinity College -Dargan Auditorium\, Dublin\, Dublin 2\, Irland
CATEGORIES:Kongresse
END:VEVENT
BEGIN:VEVENT
DTSTART;VALUE=DATE:20220715
DTEND;VALUE=DATE:20220717
DTSTAMP:20260419T214933
CREATED:20220221T122820Z
LAST-MODIFIED:20220221T125548Z
UID:7130-1657843200-1658015999@www.epitype.de
SUMMARY:Vulvovaginal Disease Update
DESCRIPTION:Oncgnostics wird vom 15.-16. Juli am Vulvovaginal Disease Update in Dublin teilnehmen. Dieser Kurs findet in Vorbereitung an den anschließenden XXVI Weltkongress der international Society for the Study of Vulvovaginal Disease (ISSVD) statt. Der Kurs wird von internationalen Experten auf diesem Gebiet geleitet.
URL:https://www.epitype.de/event/vulvovaginal-disease-update/
LOCATION:Trinity Business School Trinity College\, Trinity College -Dargan Auditorium\, Dublin\, Dublin 2\, Irland
CATEGORIES:Kongresse
END:VEVENT
BEGIN:VEVENT
DTSTART;VALUE=DATE:20220614
DTEND;VALUE=DATE:20220616
DTSTAMP:20260419T214933
CREATED:20220509T085333Z
LAST-MODIFIED:20220509T085732Z
UID:7404-1655164800-1655337599@www.epitype.de
SUMMARY:Investor Days Thüringen
DESCRIPTION:Am 14. und 15. Juni finden wieder die Investor Days Thüringen statt. Die Veranstaltungen bringt die Start-Up Community mit Investor:innen zusammen. Natürlich sind auch wir wieder mit dabei.
URL:https://www.epitype.de/event/investor-days-thueringen/
LOCATION:Steigerwaldstadion\, Mozartallee 3\, Erfurt\, Thüringen\, 99096
CATEGORIES:Kongresse
END:VEVENT
BEGIN:VEVENT
DTSTART;VALUE=DATE:20220410
DTEND;VALUE=DATE:20220413
DTSTAMP:20260419T214933
CREATED:20220215T134707Z
LAST-MODIFIED:20220218T080929Z
UID:7113-1649548800-1649807999@www.epitype.de
SUMMARY:EUROGIN 2022
DESCRIPTION:In diesem Jahr findet die EUROGIN – International multidisciplinary HPV Congress 2022 in Düsseldorf statt. Wir beteiligen uns mit eigenen Beiträgen am fachlichen Diskurs.
URL:https://www.epitype.de/event/eurogin-2022/
LOCATION:CCD. Stadthalle Düsseldorf\, Rotterdamer Straße 141\, Düsseldorf\, 0474\, Deutschland
CATEGORIES:Kongresse
END:VEVENT
BEGIN:VEVENT
DTSTART;VALUE=DATE:20220310
DTEND;VALUE=DATE:20220313
DTSTAMP:20260419T214933
CREATED:20220215T134025Z
LAST-MODIFIED:20220221T122250Z
UID:7107-1646870400-1647129599@www.epitype.de
SUMMARY:FOKO 2022
DESCRIPTION:Im März sind wir endlich wieder bei der FOKO 2022  vor Ort mit dabei. Der Fortbildungskongress des BFV (Berufsverband der Frauenärzte e.V.) findet in der CCD. Stadthalle Düsseldorf statt. Wir freuen uns darauf\, mit zahlreichen GynäkologInnen ins Gespräch zu kommen und ihnen unseren Abklärungstest GynTect® sowie unseren aktuellen Forschungsstand vorzustellen.
URL:https://www.epitype.de/event/foko-2022/
LOCATION:CCD. Stadthalle Düsseldorf\, Rotterdamer Straße 141\, Düsseldorf\, 0474\, Deutschland
CATEGORIES:Kongresse
END:VEVENT
BEGIN:VEVENT
DTSTART;VALUE=DATE:20211116
DTEND;VALUE=DATE:20211121
DTSTAMP:20260419T214933
CREATED:20210922T133837Z
LAST-MODIFIED:20210922T133911Z
UID:6848-1637020800-1637452799@www.epitype.de
SUMMARY:DxPx Partnering Conference Europe
DESCRIPTION:With the gaining importance of diagnostics\, digital health\, precision medicine and life science tools there‘s a need for a dedicated platform to bring together the relevant stakeholders and further drive our industries. \nTogether with the support of our sponsors DxPx is hosted as an annual international partnering conference to facilitate licensing\, financing\, co-development and M&A opportunities and celebrates great success and fast growth.
URL:https://www.epitype.de/event/dxpx-partnering-conference-europe/
LOCATION:Messegelände Düsseldorf\, Am Staad\, Düsseldorf\, 40474
END:VEVENT
BEGIN:VEVENT
DTSTART;VALUE=DATE:20210920
DTEND;VALUE=DATE:20210922
DTSTAMP:20260419T214933
CREATED:20210917T090624Z
LAST-MODIFIED:20210917T090643Z
UID:6789-1632096000-1632268799@www.epitype.de
SUMMARY:Deutsche Biotechnologietage 2021
DESCRIPTION:
URL:https://www.epitype.de/event/deutsch-biotechnologietage-2021/
LOCATION:Messe Stuttgart\, Messepiazza 1\, Stuttgart\, 70629
END:VEVENT
BEGIN:VEVENT
DTSTART;VALUE=DATE:20200219
DTEND;VALUE=DATE:20200223
DTSTAMP:20260419T214933
CREATED:20200109T103432Z
LAST-MODIFIED:20200109T103432Z
UID:4757-1582070400-1582415999@www.epitype.de
SUMMARY:34. Deutscher Krebskongress 2020
DESCRIPTION:Am deutschen Krebskongress in Berlin nehmen Dr. Alfred Hansel\, Prof. Dr. Matthias Dürst und Anna-Bawany Hums teil.
URL:https://www.epitype.de/event/34-deutscher-krebskongress-2020/
LOCATION:City Cube Berlin\, Messedamm 26\, Berlin\, 14055\, Deutschland
END:VEVENT
BEGIN:VEVENT
DTSTART;VALUE=DATE:20200117
DTEND;VALUE=DATE:20200119
DTSTAMP:20260419T214933
CREATED:20200109T102810Z
LAST-MODIFIED:20200109T102810Z
UID:4752-1579219200-1579391999@www.epitype.de
SUMMARY:Meeting on Experimental and Translational Research in Head and Neck Cancer Meeting on Experimental and Translational Research in Head and Neck Cancer
DESCRIPTION:Bei dem in Köln stattfindenden Kongress stellen Anna-Bawany Hums und Theresa Erler nicht nur ein Poster vor\, sondern halten außerdem einen Vortrag mit dem Titel: Improved detection of promising epigenetic biomarkers for head and neck cancer in saliva.
URL:https://www.epitype.de/event/meeting-on-experimental-and-translational-research-in-head-and-neck-cancer-meeting-on-experimental-and-translational-research-in-head-and-neck-cancer/
LOCATION:Universität Köln\, Kerpener Str. 62\, Köln\, 50937\, Deutschland
END:VEVENT
BEGIN:VEVENT
DTSTART;VALUE=DATE:20191204
DTEND;VALUE=DATE:20191208
DTSTAMP:20260419T214933
CREATED:20190607T085521Z
LAST-MODIFIED:20190808T093531Z
UID:4295-1575417600-1575763199@www.epitype.de
SUMMARY:EUROGIN 2019
DESCRIPTION:In diesem Jahr findet die EUROGIN in Monaco statt. Die „European Research Organisation on Genital Infection and Neoplasia“ ist ein internationaler und multidisziplinärer Kongress zu Infektionen mit HPV (humane Papillomviren) und dadurch ausgelöste Erkrankungen. \nMit einem eigenen Stand und Vorträgen wird die oncgnostics GmbH bei der Veranstaltung vertreten sein.
URL:https://www.epitype.de/event/eurogin-2019/
LOCATION:Grimaldi Forum\, Avenue Princesse Grace\, Monaco\, 98000\, Monaco
CATEGORIES:Kongresse
END:VEVENT
BEGIN:VEVENT
DTSTART;VALUE=DATE:20191118
DTEND;VALUE=DATE:20191122
DTSTAMP:20260419T214933
CREATED:20190607T084317Z
LAST-MODIFIED:20191009T120603Z
UID:4289-1574035200-1574380799@www.epitype.de
SUMMARY:MEDICA 2019
DESCRIPTION:Bei der weltweit größten Fachmesse der Medizinbranche ist auch die oncgnostics GmbH wieder mit dabei. Wir werden uns mit einem eigenen Stand am Gemeinschaftsstand des Branchenverbandes medways e.V. präsentieren. \nSie finden uns in Halle 15\, Stand L 29
URL:https://www.epitype.de/event/medica-2019/
LOCATION:Messe Düsseldorf\, Am Staad\, Düsseldorf\, Düsseldorf ist die Landeshauptstadt Nordrhein-Westfalens und der Behördensitz des Regierungsbezirks Düsseldorf. Die kreisfreie Stadt am Rhein ist mit 617.280 Einwohnern nach Köln die zweitgrößte Stadt des Landes. In Deutschland ist Düsseldorf nach Einwohnern die siebtgrößte Stadt. Düsseldorf ist Teil der Metropolregion Rhein-Ruhr mit rund zehn Millionen Einwohnern und der Metropolregion Rheinland mit 8\,6 Millionen Einwohnern. Die Stadt im Kern des zentralen europäischen Wirtschaftsraumes liegt seit Längerem auf Platz 6 der Mercer-Studien über die Städte mit der höchsten Lebensqualität weltweit.\, 40474
CATEGORIES:Messe
END:VEVENT
BEGIN:VEVENT
DTSTART;VALUE=DATE:20190618
DTEND;VALUE=DATE:20190620
DTSTAMP:20260419T214933
CREATED:20190607T080732Z
LAST-MODIFIED:20190607T080732Z
UID:4280-1560816000-1560988799@www.epitype.de
SUMMARY:Investordays Thüringen
DESCRIPTION:Die Investor Days Thüringen sind eine Initiative der Stiftung für Technologie\, Innovation und Forschung Thüringen (STIFT) und der beteiligungsmanagement thüringen gmbh (bm|t)\, um innovative Start-ups und Wachstumsunternehmen mit potenziellen Kooperations- oder Geschäftspartnern als auch mit Investoren und Business Angels zusammenzubringen. \nDr. Alfred Hansel\, Geschäftsführer der oncgnostics GmbH\, wird dort einen Vortrag halten.
URL:https://www.epitype.de/event/investordays-thueringen/
LOCATION:Messe Erfurt\, Gothaer Straße 34\, Erfurt\, Thüringen\, 99094
CATEGORIES:Vorträge
END:VEVENT
BEGIN:VEVENT
DTSTART;VALUE=DATE:20190605
DTEND;VALUE=DATE:20190606
DTSTAMP:20260419T214933
CREATED:20190606T120559Z
LAST-MODIFIED:20190606T120651Z
UID:4273-1559692800-1559779199@www.epitype.de
SUMMARY:MedTech Radar Live 2019
DESCRIPTION:Bei der „MedTech Radar Live“ Konferenz diskutieren rund 150 Teilnehmer über das Innovationsgeschehen in Deutschland. Initiatoren der Veranstaltung sind der Bundesverband der Medizintechnologie. der Venture-Kapitalgeber Earlybird\, die BARMER\, der High-Tech Gründerfonds und das Medizintechnik-Magazin zwo. \nGeschäftsführerin Dr. Martina Schmitz wird die oncgnostics GmbH bei einem Pitch dem Fachpublikum vorstellen.
URL:https://www.epitype.de/event/medtech-radar-live-2019/
LOCATION:Berlin\, Berlin\, Deutschland
CATEGORIES:Vorträge
END:VEVENT
BEGIN:VEVENT
DTSTART;VALUE=DATE:20190528
DTEND;VALUE=DATE:20190530
DTSTAMP:20260419T214933
CREATED:20190326T101138Z
LAST-MODIFIED:20190326T101523Z
UID:3989-1559001600-1559174399@www.epitype.de
SUMMARY:High-Tech Gründerfonds Family Day 2019
DESCRIPTION:Unser Hauptinvestor läd zu seinem alljährlichen Netzwerk Event\, dem HTGF Family Day 2019 nach Bonn ein. Vertreter aller Portfolio Unternehmen des HTGF sowie Investoren und Vertreter größerer Firmen werden vor Ort sein. Kern der Veranstaltung sind die 1:1 Meetings\, die im Vorfeld mit allen Teilnehmern vereinbart werden können. \nDas nette Rahmenprogramm sowie die Abendveranstaltung mit der mittlerweile legendären Currywurst zu später Stunde runden den Familientag ab.
URL:https://www.epitype.de/event/high-tech-gruenderfonds-family-day-2019/
LOCATION:Bonn\, Kameha Grand Hotel\, Am Bonner Bogen 1\, Bonn\, Deutschland
CATEGORIES:Kongresse
END:VEVENT
BEGIN:VEVENT
DTSTART;VALUE=DATE:20190516
DTEND;VALUE=DATE:20190518
DTSTAMP:20260419T214933
CREATED:20190327T090026Z
LAST-MODIFIED:20190327T090026Z
UID:4002-1557964800-1558137599@www.epitype.de
SUMMARY:13. Sachsen-Anhaltinische Gynäkologentage
DESCRIPTION:Auf den 13. Sachsen-Anhaltinischen Gynäkologentagen werden wir mit einem Informationsstand vertreten sein. Wir freuen uns auf zahlreiche Gespräche.
URL:https://www.epitype.de/event/13-sachsen-anhaltinische-gynaekologentage/
LOCATION:Travel Charme Gothisches Haus\, Marktplatz 2\, Wernigerode\, Sachsen-Anhalt\, 38855
CATEGORIES:Vorträge
END:VEVENT
BEGIN:VEVENT
DTSTART;VALUE=DATE:20190409
DTEND;VALUE=DATE:20190411
DTSTAMP:20260419T214933
CREATED:20190326T102156Z
LAST-MODIFIED:20190326T104030Z
UID:3997-1554768000-1554940799@www.epitype.de
SUMMARY:Deutsche Biotechnologietage 2019
DESCRIPTION:Die Deutschen Biotechnologietage (DBT) sind Treffpunkt für über 850 Unternehmerinnen und Unternehmer\, Forscher sowie Partner aus Politik\, Förderinstitutionen und Verwaltung. Die Konferenz befasst sich in Plenarvorträgen\, Podiumsdiskussionen und Frühstücksrunden mit den Rahmenbedingungen und den vielfältigen Anwendungsfeldern der Biotechnologie. \nDie Deutschen Biotechnologietage 2019 finden am 9. und 10. April in Würzburg statt und werden in gemeinsamer Verantwortung von BIO Deutschland und dem Arbeitskreis der BioRegionen sowie mit BioM\, der Management-Organisation des Bayerischen Biotechnologie Clusters\, und dem lokalen Partner IGZ Würzburg durchgeführt.
URL:https://www.epitype.de/event/deutsche-biotechnologietage-2019/
LOCATION:Congress Centrum Würzburg\, Pleichertorstraße\, Würzburg\, 97070\, Deutschland
CATEGORIES:Symposium
END:VEVENT
BEGIN:VEVENT
DTSTART;TZID=Europe/Berlin:20190406T100000
DTEND;TZID=Europe/Berlin:20190406T103000
DTSTAMP:20260419T214933
CREATED:20190328T111716Z
LAST-MODIFIED:20190329T130416Z
UID:4015-1554544800-1554546600@www.epitype.de
SUMMARY:17. Jenaer Kolposkopiekurs: Fortgeschrittenenkurs zum Kolposkopiediplom
DESCRIPTION:Der Fortgeschrittenenkurs lädt Kolleginnen und Kollegen ein\, ihr Basiswissen zur Kolposkopie zu vertiefen. Unser Berater Prof. Dr. Dürst gestaltet den Kurs durch seinen Vortrag „Wegweiser durch den Dschungel der molekularen Marker/ neue Aspekte der molekularen Diagnostik“ am 6. April 2019 ab 10 Uhr mit.
URL:https://www.epitype.de/event/17-jenaer-kolposkopiekurs-fortgeschrittenenkurs-zum-kolposkopiediplom/
LOCATION:Universitätsklinikum Jena\, Am Klinikum 1\, Jena\, 07747
CATEGORIES:Vorträge
END:VEVENT
BEGIN:VEVENT
DTSTART;VALUE=DATE:20180529
DTEND;VALUE=DATE:20180531
DTSTAMP:20260419T214933
CREATED:20180503T102039Z
LAST-MODIFIED:20180503T102039Z
UID:3352-1527552000-1527724799@www.epitype.de
SUMMARY:FD18\, der jährliche Family Day unseres Investors HTGF
DESCRIPTION:
URL:https://www.epitype.de/event/fd18-der-jaehrliche-family-day-unseres-investors-htgf/
LOCATION:Bonn\, Kameha Grand Hotel\, Am Bonner Bogen 1\, Bonn\, Deutschland
END:VEVENT
BEGIN:VEVENT
DTSTART;TZID=Europe/Berlin:20180516T150000
DTEND;TZID=Europe/Berlin:20180516T210000
DTSTAMP:20260419T214933
CREATED:20180503T103054Z
LAST-MODIFIED:20180503T103326Z
UID:3359-1526482800-1526504400@www.epitype.de
SUMMARY:Ladies Only - Vortrag von Dr. Martina Schmitz
DESCRIPTION:Im Rahmen der Veranstaltungsreihe „Ladies Only“ wird Dr. Martina Schmitz zum Thema „Life Science – von Gründung über Crowdfunding zum Börsengang“ einen Vortrag oncgnostics und verschiednen Finanzierungsformen halten.
URL:https://www.epitype.de/event/ladies-only-vortrag-von-dr-martina-schmitz/
LOCATION:SIlverSky LifeSciences\, Brunnenstraße 23\, Düsseldorf\, Deutschland
END:VEVENT
BEGIN:VEVENT
DTSTART;VALUE=DATE:20171026
DTEND;VALUE=DATE:20171028
DTSTAMP:20260419T214933
CREATED:20170714T115744Z
LAST-MODIFIED:20170714T124503Z
UID:2808-1508976000-1509148799@www.epitype.de
SUMMARY:Summit: Companion Diagnostics & Biomarkers
DESCRIPTION:Unser CEO Dr. Alfred Hansel wurde eingeladen\, beim Biotech Pharma Summit im Porto bei dem Kongress „Companion Diagnostics & Biomarkers“ zum Thema Epigenetik in der Diagnostik und unserem Test GynTect zu sprechen.
URL:https://www.epitype.de/event/summit-companion-diagnostics-biomarkers/
LOCATION:Porto\, Portugal\, Porto\, Portugal
CATEGORIES:Kongresse
ATTACH;FMTTYPE=image/png:https://www.epitype.de/wp-content/uploads/2017/07/BiotechPharmaSummit.png
END:VEVENT
BEGIN:VEVENT
DTSTART;VALUE=DATE:20171008
DTEND;VALUE=DATE:20171012
DTSTAMP:20260419T214933
CREATED:20170412T134216Z
LAST-MODIFIED:20170714T124626Z
UID:2668-1507420800-1507766399@www.epitype.de
SUMMARY:Eurogin 2017 - Int. Kongress
DESCRIPTION:Im Rahmen der Eurogin 2017 werden wir neueste Daten zu unserem Test GynTect dem Fachpublikum präsentieren. \nDie Eurogin ist ein internationaler und multidisziplinärer Kongress zu Infektionen mit humanen Papillomviren und dadurch ausgelösten Erkrankungen. \nWir freuen uns auf spannende\, wissenschaftliche Diskussionen mit allen Teilnehmern!
URL:https://www.epitype.de/event/eurogin-2017-int-kongress/
LOCATION:RAI Amsterdam\, Europaplein\, Amsterdam\, Niederlande
CATEGORIES:Kongresse
ATTACH;FMTTYPE=image/png:https://www.epitype.de/wp-content/uploads/2017/07/Eurogin2017.png
END:VEVENT
BEGIN:VEVENT
DTSTART;TZID=Europe/Berlin:20170929T140000
DTEND;TZID=Europe/Berlin:20170929T200000
DTSTAMP:20260419T214933
CREATED:20170720T071422Z
LAST-MODIFIED:20170720T072452Z
UID:2824-1506693600-1506715200@www.epitype.de
SUMMARY:UnilabsGO - Workshop für Gynäkologen in Lissabon
DESCRIPTION:Dr. Alfred Hansel\, unser CEO\, wurde eingeladen im Rahmen des Workshops eine Präsentation zum Thema Epigenetik in der Krebsdiagnostik zu halten.
URL:https://www.epitype.de/event/unilabsgo-workshop-fuer-gynaekologen-in-lissabon/
LOCATION:Centro Cultural de Belém\, Praça do Império\, Lissabon\, Portugal
ATTACH;FMTTYPE=image/png:https://www.epitype.de/wp-content/uploads/2017/07/Bildschirmfoto-2017-07-20-um-09.00.32.png
END:VEVENT
END:VCALENDAR